BEGIN:VCALENDAR
VERSION:2.0
PRODID:-//The Altar York - ECPv6.9.0//NONSGML v1.0//EN
CALSCALE:GREGORIAN
METHOD:PUBLISH
X-WR-CALNAME:The Altar York
X-ORIGINAL-URL:https://www.thealtaryork.com
X-WR-CALDESC:Events for The Altar York
REFRESH-INTERVAL;VALUE=DURATION:PT1H
X-Robots-Tag:noindex
X-PUBLISHED-TTL:PT1H
BEGIN:VTIMEZONE
TZID:UTC
BEGIN:STANDARD
TZOFFSETFROM:+0000
TZOFFSETTO:+0000
TZNAME:UTC
DTSTART:20170101T000000
END:STANDARD
END:VTIMEZONE
BEGIN:VEVENT
DTSTART;TZID=UTC:20170917T190000
DTEND;TZID=UTC:20170917T210000
DTSTAMP:20260423T225703
CREATED:20170823T230249Z
LAST-MODIFIED:20170823T231624Z
UID:14012-1505674800-1505682000@www.thealtaryork.com
SUMMARY:Family Movie Night
DESCRIPTION:We would love for you to join us for Family Movie Night!\n\nWe are showing: Bedtime Stories\n\nWe plan to have the event outside so please bring comfortable seating. In the event of rain we will be showing the movie inside.
URL:https://www.thealtaryork.com/event/family-movie-night/
LOCATION:The Altar\, 525 Hillcrest Rd\, York\, PA\, 17403\, United States
CATEGORIES:Events
ATTACH;FMTTYPE=image/jpeg:https://www.thealtaryork.com/wp-content/uploads/2017/08/movie-night.jpg
END:VEVENT
BEGIN:VEVENT
DTSTART;TZID=UTC:20170828T190000
DTEND;TZID=UTC:20170828T200000
DTSTAMP:20260423T225703
CREATED:20170805T054419Z
LAST-MODIFIED:20170805T054854Z
UID:13953-1503946800-1503950400@www.thealtaryork.com
SUMMARY:Upcoming Small Groups
DESCRIPTION:We plan to have two small groups that will be starting in the coming weeks. \nDates and times are still being finalized. Those details will be updated accordingly when available. \nBible Study Small Group: 15 minute bible study video segment followed by discussion regarding the topics covered in the lesson and closing with prayer for any needs from the group. \nFamily Dinner Night: Food will be provided for all who attend to provide a time of fellowship with one another.
URL:https://www.thealtaryork.com/event/upcoming-small-groups/
LOCATION:PA
ATTACH;FMTTYPE=image/png:https://www.thealtaryork.com/wp-content/uploads/2017/08/SmallGroups.png
END:VEVENT
BEGIN:VEVENT
DTSTART;TZID=UTC:20170813T120000
DTEND;TZID=UTC:20170813T130000
DTSTAMP:20260423T225703
CREATED:20170805T003044Z
LAST-MODIFIED:20170805T003628Z
UID:13864-1502625600-1502629200@www.thealtaryork.com
SUMMARY:Infinito's Lunch Sunday 8/13
DESCRIPTION:Please join us immediately after service on Sunday\, August 13th at Infinito’s in York to enjoy food and fellowship. \nPricing is as follows: \nADULT $6.99      JR. 6-10 $5.49        5 & UNDER $2.99
URL:https://www.thealtaryork.com/event/infinitos-lunch-sunday-813/
LOCATION:PA
ATTACH;FMTTYPE=image/jpeg:https://www.thealtaryork.com/wp-content/uploads/2017/08/infinitos.jpg
END:VEVENT
END:VCALENDAR